BEGIN:VCALENDAR
VERSION:2.0
PRODID:-//FAMILY WORLD INTERNATIONAL - ECPv6.10.2//NONSGML v1.0//EN
CALSCALE:GREGORIAN
METHOD:PUBLISH
X-ORIGINAL-URL:https://www.fawoi.org
X-WR-CALDESC:Events for FAMILY WORLD INTERNATIONAL
REFRESH-INTERVAL;VALUE=DURATION:PT1H
X-Robots-Tag:noindex
X-PUBLISHED-TTL:PT1H
BEGIN:VTIMEZONE
TZID:UTC
BEGIN:STANDARD
TZOFFSETFROM:+0000
TZOFFSETTO:+0000
TZNAME:UTC
DTSTART:20240101T000000
END:STANDARD
END:VTIMEZONE
BEGIN:VEVENT
DTSTART;TZID=UTC:20241115T110000
DTEND;TZID=UTC:20241115T150000
DTSTAMP:20260423T161922
CREATED:20241117T230058Z
LAST-MODIFIED:20241118T101620Z
UID:454-1731668400-1731682800@www.fawoi.org
SUMMARY:Symposium on Gender Inclusion and Youth Civic Integration
DESCRIPTION:On November 15\, Family World International (FAWOI) participated in a symposium organized by The Movement for Democracy\, Development\, and Transparency (MDDT) and Cliq Empire at Mountain Hotel\, Buea. The symposium utilized the Cameroon International Music Festival – CIMFEST platform to provide capacity-building training on gender inclusion\, youth civic integration\, and gender-based violence (GBV) prevention. \n\n\n\n\n\nThe symposium brought together a diverse audience\, including government officials\, civil society representatives\, private sector leaders\, artists\, and youth\, and it aimed to increase understanding and programming to promote gender inclusion\, youth civic integration\, and GBV prevention. It established a collaborative network for stakeholders and elevated the leadership voices of women\, youth\, minority groups\, persons with disabilities\, and other marginalized communities. The symposium also aligned policies and mobilized resources to meet these groups’ needs. \n\nThe event started with opening remarks by Mme Vivanje\, Deputy Lord Mayor of Buea Council\, who urged youth participation in civic engagement and GBV prevention. The keynote address by achaleke christian leke\, CEO of Local Youth Corner Cameroon\, highlighted the challenges of inclusion and the importance of youth taking ownership of their actions.\n\nPanel discussions focused on empowering stakeholders’ understanding of gender inclusion and developing strategies for youth integration and civic participation. The importance of inclusivity beyond biological sexes to encompass minorities and marginalized groups was emphasized\, and the role of CSOs and NGOs in facilitating gender inclusion was highlighted.\n\n\n\n\n\n Artists like Aunty Caro and Askia shared their journeys in music and comedy\, advocating for societal change through art. Awards were given to various youths and stakeholders for their contributions to gender inclusion and GBV prevention with an exposition of the US Exchange IVLP program by Nenapa Christelle.\n\n The symposium successfully increased awareness and collaboration among stakeholders to promote gender inclusion\, youth civic integration\, and GBV prevention in Cameroon\, setting the stage for future initiatives and partnerships to build safer\, more inclusive communities.
URL:https://www.fawoi.org/event/symposium-gender-inclusion/
LOCATION:Mountain Hotel\, Buea\, GRA Road\, Bokwango\, Buea\, South West\, P O BOX: 10020\, Buea\, Cameroon
CATEGORIES:Symposium
ATTACH;FMTTYPE=image/jpeg:https://www.fawoi.org/wp-content/uploads/2019/09/IMG_20241115_153746_389-scaled.jpg
ORGANIZER;CN="Movement for Democracy%2C Development%2C and Transparency (MDDT)":MAILTO:info@mddtcameroon.org
END:VEVENT
BEGIN:VEVENT
DTSTART;VALUE=DATE:20240930
DTEND;VALUE=DATE:20241001
DTSTAMP:20260423T161922
CREATED:20241015T222910Z
LAST-MODIFIED:20241016T003237Z
UID:3748-1727654400-1727740799@www.fawoi.org
SUMMARY:Peace Planting Symposium and Art Exhibition
DESCRIPTION:The Planting Peace Project Symposium held at the National Museum\, Yaoundé on September 30\, 2024 was convened by the Itaka Foundation\, an organization of the Piarist Fathers in Cameroon (also known as the Society of St. Joseph Calasanz)\, sponsored by the United States Embassy in Cameroon.\n\n\n\n\n\n This event saw attendance from numerous Civil Society Organizations (CSOs) and NGOs across Cameroon. Representing Family World International (FAWOI) was Secretary General Stephen A. Kube\, alongside partner organizations such as Common Action for Gender Development (COMAGEND)\, IRebuild Africa\, ROBOGA\, YALI Sports Africa\, Association for the Welfare of Albinos (AWA)\, Hope for a Better Tomorrow (HOBET)\, Association of the Vulnerable (ASOV)\, and many others. \n\n The symposium brought together esteemed guests such as Rev. Fr. Peter Afoukeze Kebei-Ghongson\, the Director of Itaka Foundation\, and his manager Sama Caspa. Representing the US Embassy were Deputy Public Affairs Officer Amanda Cauldwell\, Youth Exchanges and Alumni Coordinator Olivia Nowou\, and Public Engagement Specialist Mrs. Charlene Wantong. The event was moderated by Mrs. Sally Mboumien\, Executive Director of COMAGEND.\n\n\n\n\n\n Peacebuilding in Cameroon: Analysis of CSO and Government Approaches\nParticipants delved into various approaches by both the state and CSOs towards peacebuilding. CSO initiatives included localization of peace processes\, creating safe spaces to address sexual and gender-based violence (SGBV) and ensuring safe school environments. They emphasized awareness and advocacy for peace\, formation of the Cameroon national women’s peace convention\, enhancing community dialogue and mediation\, combating misinformation and hate speech\, and fostering partnerships and collaborations among inter-state agencies and CSOs.\n\nPeace is a place where there is no fighting and people feel comfortable living together as one. \n\n The government on its part defended state sovereignty\, hosted a major national dialogue addressing the socio-political crisis in the North-West and South-West regions\, promoted bilingualism and multiculturalism\, instituted the Presidential Reconstruction Plan (PRP)\, and established an anti-terrorism squad under the 2014 terrorism law. They also emphasized common law valorization and youth empowerment initiatives.\n\n The diaspora community’s involvement in peacebuilding was highlighted through their participation in national dialogues and conferences aimed at fostering peace.\n\n\n\n\n\n Digital Diplomacy and Peace Advocacy: Harnessing Technology for Change\nDiscussions highlighted both positive and negative aspects of technology usage. Negative attributes included cyberbullying\, propaganda\, fake news\, and incitement of violence through digital platforms. Positive attributes were fact-checking\, influencers promoting peace\, media law enforcement\, magazines and poetry for peace on social media\, and using artificial intelligence for combating misinformation.\n\n Leveraging US Government Resources for Peace Activism: A Toolkit for Changemakers\nFacilitated by the US Embassy Public Engagement Specialist\, participants were encouraged to leverage tools and skills for peace activism\, such as communication\, negotiation\, mediation\, cultural competence\, critical thinking\, advocacy\, resilience\, adaptability\, research and analysis\, social media\, emotional intelligence\, project management\, and networking. Suggested funding methods like GOFUNDME initiatives\, having strategic plans\, and partnerships were also discussed.\n\n\n\n\n\n Innovative Peacebuilding in Cameroon: Overcoming Challenges and Fostering Sustainable Solutions\nThe symposium acknowledged ongoing challenges such as lack of communication\, inequalities\, inadequate emergency preparedness\, censorship\, lack of empathy\, education deficits\, digital divide\, and exclusion. Proposed solutions included enhancing protection mechanisms for activists\, using traditional peacebuilding techniques like inter-quarter games\, community engagement in peacebuilding design\, storytelling\, family-centered peace education\, intergenerational transfer of values\, livelihood initiatives for vulnerable populations\, education for peace trainings\, mainstreaming digital literacy\, reskilling for emergency response\, and promoting youth participation.\n\n Peace Planting Art Exhibition\nThe event culminated in the Peace Planting Art Exhibition\, attended by US Ambassador to Cameroon Christopher Lamora and other state\, religious\, and community leaders like the Apostolic Nuncio to Cameroon and Equatorial Guinea whose residence was the primary home to the exhibited art by Pinna. The exhibition showcased artwork reflecting children’s need for peace to enable their education\, accompanied by the national anthems of Cameroon and the United States and inspiring speeches. \n\n\n\n\n\n This symposium and art exhibition not only highlighted current peacebuilding efforts but also set the stage for innovative approaches to sustain peace in Cameroon.
URL:https://www.fawoi.org/event/peace-planting-symposium/
LOCATION:National Museum\, Yaounde\, Ancien Palais présidentiel\, 1053 Yaoundé\, Yaoundé\, Centre\, Cameroon
CATEGORIES:Symposium
ATTACH;FMTTYPE=image/jpeg:https://www.fawoi.org/wp-content/uploads/2024/10/PPP-2024.jpg
END:VEVENT
END:VCALENDAR